BEGIN:VCALENDAR
VERSION:2.0
PRODID:GIGPRESS 2.0 WORDPRESS PLUGIN
CALSCALE:GREGORIAN
X-WR-TIMEZONE:Etc/GMT
METHOD:PUBLISH
BEGIN:VTIMEZONE
TZID:GMT
BEGIN:STANDARD
DTSTART:20071028T010000
TZOFFSETTO:+0000
TZOFFSETFROM:+0000
END:STANDARD
END:VTIMEZONE
BEGIN:VEVENT
SUMMARY:Allan Barron at Scenic Hotel
DESCRIPTION:All Ages
LOCATION:Scenic Hotel\, 58 Seaview Cres\, Paihia\, NZ
UID:20210508T070000Z-1-donna@e-builders.co.nz
URL:https://www.countryrock.co.nz
DTSTART;VALUE=DATE-TIME;TZID=GMT:20210508T070000Z
DTEND;VALUE=DATE-TIME;TZID=GMT:20210508T070000Z
DTSTAMP:20210120T015629Z
END:VEVENT
END:VCALENDAR